Package: ribor Version: 1.16.0 Command: /home/biocbuild/bbs-3.19-bioc/R/bin/R CMD build --keep-empty-dirs --no-resave-data ribor StartedAt: 2024-10-16 20:26:40 -0400 (Wed, 16 Oct 2024) EndedAt: 2024-10-16 20:27:38 -0400 (Wed, 16 Oct 2024) EllapsedTime: 58.1 seconds RetCode: 0 Status: OK PackageFile: ribor_1.16.0.tar.gz PackageFileSize: 4.298 MiB