Package: ribor Version: 1.16.0 Command: /home/biocbuild/bbs-3.19-bioc/R/bin/R CMD INSTALL ribor StartedAt: 2024-10-16 15:54:24 -0400 (Wed, 16 Oct 2024) EndedAt: 2024-10-16 15:54:32 -0400 (Wed, 16 Oct 2024) EllapsedTime: 8.0 seconds RetCode: 0 Status: OK