Package: ribor Version: 1.16.0 Command: rm -rf ribor.buildbin-libdir && mkdir ribor.buildbin-libdir && E:\biocbuild\bbs-3.19-bioc\R\bin\R.exe CMD INSTALL --build --library=ribor.buildbin-libdir ribor_1.16.0.tar.gz StartedAt: 2024-10-17 08:29:57 -0400 (Thu, 17 Oct 2024) EndedAt: 2024-10-17 08:30:23 -0400 (Thu, 17 Oct 2024) EllapsedTime: 25.7 seconds RetCode: 0 Status: OK PackageFile: ribor_1.16.0.zip PackageFileSize: 4.087 MiB