Package: rmelting Version: 1.20.0 Command: chmod a+r rmelting -R && F:\biocbuild\bbs-3.19-bioc\R\bin\R.exe CMD build --keep-empty-dirs --no-resave-data rmelting StartedAt: 2024-06-26 21:26:02 -0400 (Wed, 26 Jun 2024) EndedAt: 2024-06-26 21:26:44 -0400 (Wed, 26 Jun 2024) EllapsedTime: 42.0 seconds RetCode: 0 Status: OK PackageFile: rmelting_1.20.0.tar.gz PackageFileSize: 2.492 MiB