Package: rnaEditr Version: 1.14.0 Command: /Library/Frameworks/R.framework/Resources/bin/R CMD INSTALL rnaEditr StartedAt: 2024-10-16 16:23:52 -0400 (Wed, 16 Oct 2024) EndedAt: 2024-10-16 16:25:15 -0400 (Wed, 16 Oct 2024) EllapsedTime: 82.8 seconds RetCode: 0 Status: OK