Package: rnaEditr Version: 1.14.0 Command: rm -rf rnaEditr.buildbin-libdir && mkdir rnaEditr.buildbin-libdir && F:\biocbuild\bbs-3.19-bioc\R\bin\R.exe CMD INSTALL --build --library=rnaEditr.buildbin-libdir rnaEditr_1.14.0.tar.gz StartedAt: 2024-06-27 08:48:28 -0400 (Thu, 27 Jun 2024) EndedAt: 2024-06-27 08:49:24 -0400 (Thu, 27 Jun 2024) EllapsedTime: 56.2 seconds RetCode: 0 Status: OK PackageFile: rnaEditr_1.14.0.zip PackageFileSize: 1.016 MiB