Package: rnaEditr Version: 1.14.0 Command: chmod a+r rnaEditr -R && F:\biocbuild\bbs-3.19-bioc\R\bin\R.exe CMD build --keep-empty-dirs --no-resave-data rnaEditr StartedAt: 2024-06-26 21:26:56 -0400 (Wed, 26 Jun 2024) EndedAt: 2024-06-26 21:28:07 -0400 (Wed, 26 Jun 2024) EllapsedTime: 70.8 seconds RetCode: 0 Status: OK PackageFile: rnaEditr_1.14.0.tar.gz PackageFileSize: 1.052 MiB