Package: rnaEditr Version: 1.14.0 Command: E:\biocbuild\bbs-3.19-bioc\R\bin\R.exe CMD check --no-multiarch --install=check:rnaEditr.install-out.txt --library=E:\biocbuild\bbs-3.19-bioc\R\library --no-vignettes --timings rnaEditr_1.14.0.tar.gz StartedAt: 2024-10-17 05:07:59 -0400 (Thu, 17 Oct 2024) EndedAt: 2024-10-17 05:13:18 -0400 (Thu, 17 Oct 2024) EllapsedTime: 319.3 seconds RetCode: 0 Status: WARNINGS CheckDir: rnaEditr.Rcheck Warnings: 1