Package: rnaseqcomp Version: 1.34.0 Command: rm -rf rnaseqcomp.buildbin-libdir && mkdir rnaseqcomp.buildbin-libdir && /Users/biocbuild/BBS/utils/build-universal.sh rnaseqcomp_1.34.0.tar.gz /Library/Frameworks/R.framework/Resources/bin/R rnaseqcomp.buildbin-libdir StartedAt: 2024-10-18 20:24:46 -0400 (Fri, 18 Oct 2024) EndedAt: 2024-10-18 20:24:53 -0400 (Fri, 18 Oct 2024) EllapsedTime: 6.9 seconds RetCode: 0 Status: OK PackageFile: rnaseqcomp_1.34.0.tgz PackageFileSize: 1.696 MiB