Package: rnaseqcomp Version: 1.34.0 Command: /Library/Frameworks/R.framework/Resources/bin/R CMD build --keep-empty-dirs --no-resave-data rnaseqcomp StartedAt: 2024-10-17 07:55:02 -0400 (Thu, 17 Oct 2024) EndedAt: 2024-10-17 07:55:30 -0400 (Thu, 17 Oct 2024) EllapsedTime: 28.1 seconds RetCode: 0 Status: OK PackageFile: rnaseqcomp_1.34.0.tar.gz PackageFileSize: 1.531 MiB