Package: rnaseqcomp Version: 1.34.0 Command: /Library/Frameworks/R.framework/Resources/bin/R CMD check --install=check:rnaseqcomp.install-out.txt --library=/Library/Frameworks/R.framework/Resources/library --no-vignettes --timings rnaseqcomp_1.34.0.tar.gz StartedAt: 2024-10-18 10:00:01 -0400 (Fri, 18 Oct 2024) EndedAt: 2024-10-18 10:00:51 -0400 (Fri, 18 Oct 2024) EllapsedTime: 49.5 seconds RetCode: 0 Status: OK CheckDir: rnaseqcomp.Rcheck Warnings: 0