Package: rnaseqcomp Version: 1.34.0 Command: chmod a+r rnaseqcomp -R && F:\biocbuild\bbs-3.19-bioc\R\bin\R.exe CMD build --keep-empty-dirs --no-resave-data rnaseqcomp StartedAt: 2024-06-26 21:28:06 -0400 (Wed, 26 Jun 2024) EndedAt: 2024-06-26 21:28:36 -0400 (Wed, 26 Jun 2024) EllapsedTime: 29.9 seconds RetCode: 0 Status: OK PackageFile: rnaseqcomp_1.34.0.tar.gz PackageFileSize: 1.289 MiB