Package: rnaseqcomp Version: 1.34.0 Command: chmod a+r rnaseqcomp -R && E:\biocbuild\bbs-3.19-bioc\R\bin\R.exe CMD build --keep-empty-dirs --no-resave-data rnaseqcomp StartedAt: 2024-10-16 21:34:53 -0400 (Wed, 16 Oct 2024) EndedAt: 2024-10-16 21:35:27 -0400 (Wed, 16 Oct 2024) EllapsedTime: 34.1 seconds RetCode: 0 Status: OK PackageFile: rnaseqcomp_1.34.0.tar.gz PackageFileSize: 1.289 MiB