Package: roar Version: 1.40.0 Command: rm -rf roar.buildbin-libdir && mkdir roar.buildbin-libdir && /Users/biocbuild/BBS/utils/build-universal.sh roar_1.40.0.tar.gz /Library/Frameworks/R.framework/Resources/bin/R roar.buildbin-libdir StartedAt: 2024-10-18 20:25:13 -0400 (Fri, 18 Oct 2024) EndedAt: 2024-10-18 20:26:01 -0400 (Fri, 18 Oct 2024) EllapsedTime: 47.4 seconds RetCode: 0 Status: OK PackageFile: roar_1.40.0.tgz PackageFileSize: 1.243 MiB