Package: rols Version: 3.0.0 Maintainer: Laurent Gatto MaintainerEmail: laurent.gatto at uclouvain.be git_url: https://git.bioconductor.org/packages/rols git_branch: RELEASE_3_19 git_last_commit: a4f4505 git_last_commit_date: 2024-04-30 10:27:54 -0400 (Tue, 30 Apr 2024)