Package: rols Version: 3.0.0 Command: /home/biocbuild/R/R-beta-2024-04-15_r86425/bin/R CMD build --keep-empty-dirs --no-resave-data rols StartedAt: 2024-05-09 03:09:56 -0000 (Thu, 09 May 2024) EndedAt: 2024-05-09 03:10:59 -0000 (Thu, 09 May 2024) EllapsedTime: 63.1 seconds RetCode: 0 Status: OK PackageFile: rols_3.0.0.tar.gz PackageFileSize: 488.7 KiB