Package: rols Version: 3.0.0 Command: /home/biocbuild/R/R-beta-2024-04-15_r86425/bin/R CMD INSTALL rols StartedAt: 2024-05-08 20:09:26 -0000 (Wed, 08 May 2024) EndedAt: 2024-05-08 20:09:48 -0000 (Wed, 08 May 2024) EllapsedTime: 21.8 seconds RetCode: 0 Status: OK