Package: rols Version: 3.0.0 Command: /Library/Frameworks/R.framework/Resources/bin/R CMD build --keep-empty-dirs --no-resave-data rols StartedAt: 2024-06-09 17:58:22 -0400 (Sun, 09 Jun 2024) EndedAt: 2024-06-09 17:58:56 -0400 (Sun, 09 Jun 2024) EllapsedTime: 34.9 seconds RetCode: 0 Status: OK PackageFile: rols_3.0.0.tar.gz PackageFileSize: 390 KiB