Package: rols Version: 3.0.0 Command: /Library/Frameworks/R.framework/Resources/bin/R CMD INSTALL rols StartedAt: 2024-10-16 15:13:04 -0400 (Wed, 16 Oct 2024) EndedAt: 2024-10-16 15:13:26 -0400 (Wed, 16 Oct 2024) EllapsedTime: 21.3 seconds RetCode: 0 Status: OK