Package: rols Version: 3.0.0 Command: /home/biocbuild/bbs-3.19-bioc/R/bin/R CMD build --keep-empty-dirs --no-resave-data rols StartedAt: 2024-10-16 20:32:13 -0400 (Wed, 16 Oct 2024) EndedAt: 2024-10-16 20:32:46 -0400 (Wed, 16 Oct 2024) EllapsedTime: 33.1 seconds RetCode: 0 Status: OK PackageFile: rols_3.0.0.tar.gz PackageFileSize: 390 KiB