Package: rols Version: 3.0.0 Command: chmod a+r rols -R && E:\biocbuild\bbs-3.19-bioc\R\bin\R.exe CMD build --keep-empty-dirs --no-resave-data rols StartedAt: 2024-10-16 21:36:28 -0400 (Wed, 16 Oct 2024) EndedAt: 2024-10-16 21:37:10 -0400 (Wed, 16 Oct 2024) EllapsedTime: 42.4 seconds RetCode: 0 Status: OK PackageFile: rols_3.0.0.tar.gz PackageFileSize: 390.4 KiB