Package: ropls Version: 1.36.0 Command: /Library/Frameworks/R.framework/Resources/bin/R CMD build --keep-empty-dirs --no-resave-data ropls StartedAt: 2024-10-16 22:44:05 -0400 (Wed, 16 Oct 2024) EndedAt: 2024-10-16 22:46:55 -0400 (Wed, 16 Oct 2024) EllapsedTime: 170.0 seconds RetCode: 0 Status: OK PackageFile: ropls_1.36.0.tar.gz PackageFileSize: 4.468 MiB