Package: ropls Version: 1.36.0 Command: /home/biocbuild/bbs-3.19-bioc/R/bin/R CMD INSTALL ropls StartedAt: 2024-10-16 16:40:18 -0400 (Wed, 16 Oct 2024) EndedAt: 2024-10-16 16:40:46 -0400 (Wed, 16 Oct 2024) EllapsedTime: 27.3 seconds RetCode: 0 Status: OK