Package: ropls Version: 1.36.0 Command: rm -rf ropls.buildbin-libdir && mkdir ropls.buildbin-libdir && E:\biocbuild\bbs-3.19-bioc\R\bin\R.exe CMD INSTALL --build --library=ropls.buildbin-libdir ropls_1.36.0.tar.gz StartedAt: 2024-10-17 08:31:37 -0400 (Thu, 17 Oct 2024) EndedAt: 2024-10-17 08:32:31 -0400 (Thu, 17 Oct 2024) EllapsedTime: 53.9 seconds RetCode: 0 Status: OK PackageFile: ropls_1.36.0.zip PackageFileSize: 3.494 MiB