Package: rpx Version: 2.12.0 Command: rm -rf rpx.buildbin-libdir && mkdir rpx.buildbin-libdir && E:\biocbuild\bbs-3.19-bioc\R\bin\R.exe CMD INSTALL --build --library=rpx.buildbin-libdir rpx_2.12.0.tar.gz StartedAt: 2024-10-17 08:31:49 -0400 (Thu, 17 Oct 2024) EndedAt: 2024-10-17 08:32:15 -0400 (Thu, 17 Oct 2024) EllapsedTime: 26.1 seconds RetCode: 0 Status: OK PackageFile: rpx_2.12.0.zip PackageFileSize: 486.1 KiB