Package: rpx Version: 2.12.0 Command: E:\biocbuild\bbs-3.19-bioc\R\bin\R.exe CMD INSTALL rpx StartedAt: 2024-10-16 16:13:17 -0400 (Wed, 16 Oct 2024) EndedAt: 2024-10-16 16:13:32 -0400 (Wed, 16 Oct 2024) EllapsedTime: 14.7 seconds RetCode: 0 Status: OK