Package: rqubic Version: 1.50.0 Command: /Library/Frameworks/R.framework/Resources/bin/R CMD build --keep-empty-dirs --no-resave-data rqubic StartedAt: 2024-10-16 22:45:28 -0400 (Wed, 16 Oct 2024) EndedAt: 2024-10-16 22:46:13 -0400 (Wed, 16 Oct 2024) EllapsedTime: 45.0 seconds RetCode: 0 Status: OK PackageFile: rqubic_1.50.0.tar.gz PackageFileSize: 189.2 KiB