Package: rqubic Version: 1.50.0 Command: /home/biocbuild/bbs-3.19-bioc/R/bin/R CMD build --keep-empty-dirs --no-resave-data rqubic StartedAt: 2024-10-16 20:33:01 -0400 (Wed, 16 Oct 2024) EndedAt: 2024-10-16 20:33:14 -0400 (Wed, 16 Oct 2024) EllapsedTime: 13.0 seconds RetCode: 0 Status: OK PackageFile: rqubic_1.50.0.tar.gz PackageFileSize: 190.1 KiB