Package: rqubic Version: 1.50.0 Command: rm -rf rqubic.buildbin-libdir && mkdir rqubic.buildbin-libdir && F:\biocbuild\bbs-3.19-bioc\R\bin\R.exe CMD INSTALL --build --library=rqubic.buildbin-libdir rqubic_1.50.0.tar.gz StartedAt: 2024-06-27 08:49:47 -0400 (Thu, 27 Jun 2024) EndedAt: 2024-06-27 08:50:08 -0400 (Thu, 27 Jun 2024) EllapsedTime: 20.5 seconds RetCode: 0 Status: OK PackageFile: rqubic_1.50.0.zip PackageFileSize: 435.8 KiB