Package: rqubic Version: 1.50.0 Command: E:\biocbuild\bbs-3.19-bioc\R\bin\R.exe CMD INSTALL rqubic StartedAt: 2024-10-16 17:09:28 -0400 (Wed, 16 Oct 2024) EndedAt: 2024-10-16 17:09:51 -0400 (Wed, 16 Oct 2024) EllapsedTime: 23.4 seconds RetCode: 0 Status: OK