Package: rrvgo Version: 1.16.0 Command: rm -rf rrvgo.buildbin-libdir && mkdir rrvgo.buildbin-libdir && /Users/biocbuild/BBS/utils/build-universal.sh rrvgo_1.16.0.tar.gz /Library/Frameworks/R.framework/Resources/bin/R rrvgo.buildbin-libdir StartedAt: 2024-10-17 17:03:46 -0400 (Thu, 17 Oct 2024) EndedAt: 2024-10-17 17:04:39 -0400 (Thu, 17 Oct 2024) EllapsedTime: 53.0 seconds RetCode: 0 Status: OK PackageFile: rrvgo_1.16.0.tgz PackageFileSize: 1.393 MiB