Package: rsemmed Version: 1.14.0 Command: rm -rf rsemmed.buildbin-libdir && mkdir rsemmed.buildbin-libdir && /Users/biocbuild/BBS/utils/build-universal.sh rsemmed_1.14.0.tar.gz /Library/Frameworks/R.framework/Resources/bin/R rsemmed.buildbin-libdir StartedAt: 2024-10-18 20:27:15 -0400 (Fri, 18 Oct 2024) EndedAt: 2024-10-18 20:27:23 -0400 (Fri, 18 Oct 2024) EllapsedTime: 7.9 seconds RetCode: 0 Status: OK PackageFile: rsemmed_1.14.0.tgz PackageFileSize: 2.229 MiB