Package: rsemmed Version: 1.14.0 Command: /Library/Frameworks/R.framework/Resources/bin/R CMD build --keep-empty-dirs --no-resave-data rsemmed StartedAt: 2024-10-17 08:03:48 -0400 (Thu, 17 Oct 2024) EndedAt: 2024-10-17 08:04:19 -0400 (Thu, 17 Oct 2024) EllapsedTime: 30.5 seconds RetCode: 0 Status: OK PackageFile: rsemmed_1.14.0.tar.gz PackageFileSize: 2.197 MiB