Package: rsemmed Version: 1.14.0 Command: /Library/Frameworks/R.framework/Resources/bin/R CMD check --install=check:rsemmed.install-out.txt --library=/Library/Frameworks/R.framework/Resources/library --no-vignettes --timings rsemmed_1.14.0.tar.gz StartedAt: 2024-10-18 10:18:40 -0400 (Fri, 18 Oct 2024) EndedAt: 2024-10-18 10:19:29 -0400 (Fri, 18 Oct 2024) EllapsedTime: 48.7 seconds RetCode: 0 Status: OK CheckDir: rsemmed.Rcheck Warnings: 0