Package: rsemmed Version: 1.14.0 Command: /Library/Frameworks/R.framework/Resources/bin/R CMD INSTALL rsemmed StartedAt: 2024-06-09 15:06:57 -0400 (Sun, 09 Jun 2024) EndedAt: 2024-06-09 15:07:27 -0400 (Sun, 09 Jun 2024) EllapsedTime: 30.0 seconds RetCode: 0 Status: OK