Package: rsemmed Version: 1.14.0 Command: chmod a+r rsemmed -R && F:\biocbuild\bbs-3.19-bioc\R\bin\R.exe CMD build --keep-empty-dirs --no-resave-data rsemmed StartedAt: 2024-06-26 21:32:49 -0400 (Wed, 26 Jun 2024) EndedAt: 2024-06-26 21:33:20 -0400 (Wed, 26 Jun 2024) EllapsedTime: 30.7 seconds RetCode: 0 Status: OK PackageFile: rsemmed_1.14.0.tar.gz PackageFileSize: 1.75 MiB