Package: sRACIPE Version: 1.20.0 Command: /home/biocbuild/R/R-beta-2024-04-15_r86425/bin/R CMD INSTALL sRACIPE StartedAt: 2024-05-08 20:34:31 -0000 (Wed, 08 May 2024) EndedAt: 2024-05-08 20:35:44 -0000 (Wed, 08 May 2024) EllapsedTime: 72.9 seconds RetCode: 0 Status: OK