Package: safe Version: 3.44.0 Command: rm -rf safe.buildbin-libdir && mkdir safe.buildbin-libdir && /Users/biocbuild/BBS/utils/build-universal.sh safe_3.44.0.tar.gz /Library/Frameworks/R.framework/Resources/bin/R safe.buildbin-libdir StartedAt: 2024-10-15 20:04:06 -0400 (Tue, 15 Oct 2024) EndedAt: 2024-10-15 20:04:29 -0400 (Tue, 15 Oct 2024) EllapsedTime: 23.1 seconds RetCode: 0 Status: OK PackageFile: safe_3.44.0.tgz PackageFileSize: 897.2 KiB