Package: safe Version: 3.44.0 Command: /Library/Frameworks/R.framework/Resources/bin/R CMD build --keep-empty-dirs --no-resave-data safe StartedAt: 2024-10-17 08:11:09 -0400 (Thu, 17 Oct 2024) EndedAt: 2024-10-17 08:16:30 -0400 (Thu, 17 Oct 2024) EllapsedTime: 320.9 seconds RetCode: 0 Status: OK PackageFile: safe_3.44.0.tar.gz PackageFileSize: 713.4 KiB