Package: safe Version: 3.44.0 Command: /Library/Frameworks/R.framework/Resources/bin/R CMD check --install=check:safe.install-out.txt --library=/Library/Frameworks/R.framework/Resources/library --no-vignettes --timings safe_3.44.0.tar.gz StartedAt: 2024-06-11 04:03:54 -0400 (Tue, 11 Jun 2024) EndedAt: 2024-06-11 04:06:28 -0400 (Tue, 11 Jun 2024) EllapsedTime: 154.0 seconds RetCode: 0 Status: OK CheckDir: safe.Rcheck Warnings: 0