Package: safe Version: 3.44.0 Command: /home/biocbuild/R/R-beta-2024-04-15_r86425/bin/R CMD build --keep-empty-dirs --no-resave-data safe StartedAt: 2024-05-09 03:15:06 -0000 (Thu, 09 May 2024) EndedAt: 2024-05-09 03:22:23 -0000 (Thu, 09 May 2024) EllapsedTime: 436.6 seconds RetCode: 0 Status: OK PackageFile: safe_3.44.0.tar.gz PackageFileSize: 698.9 KiB