Package: safe Version: 3.44.0 Command: rm -rf safe.buildbin-libdir && mkdir safe.buildbin-libdir && /Users/biocbuild/BBS/utils/build-universal.sh safe_3.44.0.tar.gz /Library/Frameworks/R.framework/Resources/bin/R safe.buildbin-libdir StartedAt: 2024-06-10 00:37:17 -0400 (Mon, 10 Jun 2024) EndedAt: 2024-06-10 00:37:41 -0400 (Mon, 10 Jun 2024) EllapsedTime: 23.7 seconds RetCode: 0 Status: OK PackageFile: safe_3.44.0.tgz PackageFileSize: 892.7 KiB