Package: safe Version: 3.44.0 Command: /home/biocbuild/bbs-3.19-bioc/R/bin/R CMD build --keep-empty-dirs --no-resave-data safe StartedAt: 2024-10-16 20:35:45 -0400 (Wed, 16 Oct 2024) EndedAt: 2024-10-16 20:39:30 -0400 (Wed, 16 Oct 2024) EllapsedTime: 225.6 seconds RetCode: 0 Status: OK PackageFile: safe_3.44.0.tar.gz PackageFileSize: 516.7 KiB