Package: safe Version: 3.44.0 Command: chmod a+r safe -R && F:\biocbuild\bbs-3.19-bioc\R\bin\R.exe CMD build --keep-empty-dirs --no-resave-data safe StartedAt: 2024-06-26 21:36:18 -0400 (Wed, 26 Jun 2024) EndedAt: 2024-06-26 21:46:20 -0400 (Wed, 26 Jun 2024) EllapsedTime: 602.8 seconds RetCode: 0 Status: OK PackageFile: safe_3.44.0.tar.gz PackageFileSize: 519.8 KiB