Package: safe Version: 3.44.0 Command: F:\biocbuild\bbs-3.19-bioc\R\bin\R.exe CMD check --no-multiarch --install=check:safe.install-out.txt --library=F:\biocbuild\bbs-3.19-bioc\R\library --no-vignettes --timings safe_3.44.0.tar.gz StartedAt: 2024-06-27 05:43:30 -0400 (Thu, 27 Jun 2024) EndedAt: 2024-06-27 05:45:22 -0400 (Thu, 27 Jun 2024) EllapsedTime: 112.5 seconds RetCode: 0 Status: OK CheckDir: safe.Rcheck Warnings: 0