Package: safe Version: 3.44.0 Command: rm -rf safe.buildbin-libdir && mkdir safe.buildbin-libdir && E:\biocbuild\bbs-3.19-bioc\R\bin\R.exe CMD INSTALL --build --library=safe.buildbin-libdir safe_3.44.0.tar.gz StartedAt: 2024-10-17 08:33:17 -0400 (Thu, 17 Oct 2024) EndedAt: 2024-10-17 08:33:40 -0400 (Thu, 17 Oct 2024) EllapsedTime: 23.0 seconds RetCode: 0 Status: OK PackageFile: safe_3.44.0.zip PackageFileSize: 704.7 KiB