Package: safe Version: 3.44.0 Command: chmod a+r safe -R && E:\biocbuild\bbs-3.19-bioc\R\bin\R.exe CMD build --keep-empty-dirs --no-resave-data safe StartedAt: 2024-10-16 21:40:47 -0400 (Wed, 16 Oct 2024) EndedAt: 2024-10-16 21:46:34 -0400 (Wed, 16 Oct 2024) EllapsedTime: 347.0 seconds RetCode: 0 Status: OK PackageFile: safe_3.44.0.tar.gz PackageFileSize: 520.2 KiB