Package: sampleClassifier Version: 1.28.0 Command: /Library/Frameworks/R.framework/Resources/bin/R CMD INSTALL sampleClassifier StartedAt: 2024-06-09 16:07:31 -0400 (Sun, 09 Jun 2024) EndedAt: 2024-06-09 16:07:55 -0400 (Sun, 09 Jun 2024) EllapsedTime: 24.0 seconds RetCode: 0 Status: OK