Package: sampleClassifier Version: 1.28.0 Command: chmod a+r sampleClassifier -R && F:\biocbuild\bbs-3.19-bioc\R\bin\R.exe CMD build --keep-empty-dirs --no-resave-data sampleClassifier StartedAt: 2024-06-26 21:36:37 -0400 (Wed, 26 Jun 2024) EndedAt: 2024-06-26 21:43:00 -0400 (Wed, 26 Jun 2024) EllapsedTime: 382.7 seconds RetCode: 0 Status: OK PackageFile: sampleClassifier_1.28.0.tar.gz PackageFileSize: 237.9 KiB