Package: scBFA Version: 1.18.0 Command: rm -rf scBFA.buildbin-libdir && mkdir scBFA.buildbin-libdir && /Users/biocbuild/BBS/utils/build-universal.sh scBFA_1.18.0.tar.gz /Library/Frameworks/R.framework/Resources/bin/R scBFA.buildbin-libdir StartedAt: 2024-06-11 13:03:30 -0400 (Tue, 11 Jun 2024) EndedAt: 2024-06-11 13:05:11 -0400 (Tue, 11 Jun 2024) EllapsedTime: 100.8 seconds RetCode: 0 Status: OK PackageFile: scBFA_1.18.0.tgz PackageFileSize: 1.284 MiB